BEGIN:VCALENDAR
VERSION:2.0
PRODID:-//Squarespace Inc/Squarespace 6//v6//EN
BEGIN:VEVENT
UID:5a650d1153450a34f4e7a21b@squarespace.com
DTSTAMP:20180121T220644Z
DTSTART:20180220T043000Z
DTEND:20180220T073000Z
SUMMARY:How to Manage Risk & Stay in Business
GEO:-46.245301;169.714654
LOCATION:Rosebank Lodge\, Balclutha
END:VEVENT
END:VCALENDAR
