BEGIN:VCALENDAR
VERSION:2.0
PRODID:-//Squarespace Inc/Squarespace 6//v6//EN
BEGIN:VEVENT
UID:5a6507c4ec212d8a1b8970e7@squarespace.com
DTSTAMP:20180121T214915Z
DTSTART:20180220T200000Z
DTEND:20180220T230000Z
SUMMARY:ANZ: How to Recruit & Manage Staff
GEO:-45.892319;170.511513
LOCATION:Harbourview Lounge\, Edgar Centre
END:VEVENT
END:VCALENDAR
