BEGIN:VCALENDAR
VERSION:2.0
PRODID:-//Squarespace Inc/Squarespace 6//v6//EN
BEGIN:VEVENT
UID:5a650ae88165f575c9404901@squarespace.com
DTSTAMP:20180121T215831Z
DTSTART:20180221T043000Z
DTEND:20180221T073000Z
SUMMARY:Women in Business-Networking
GEO:-45.892319;170.511513
LOCATION:Edgar Centre
END:VEVENT
END:VCALENDAR
