BEGIN:VCALENDAR
VERSION:2.0
PRODID:-//Squarespace Inc/Squarespace 6//v6//EN
BEGIN:VEVENT
UID:5a437fbb652dea22a551503e@squarespace.com
DTSTAMP:20171227T111717Z
DTSTART:20180224T053000Z
DTEND:20180224T110100Z
SUMMARY:Mosgiel Business Association: Black tie fundraiser dinner
GEO:-45.882338;170.355227
LOCATION:Burns Lodge\, 89 Church Street\, Mosgiel\, OTA\, 9024\, New Zealan
 d
END:VEVENT
END:VCALENDAR
