BEGIN:VCALENDAR
VERSION:2.0
PRODID:-//Squarespace Inc/Squarespace 6//v6//EN
BEGIN:VEVENT
UID:5a43871ec830257df7be90d0@squarespace.com
DTSTAMP:20180116T004042Z
DTSTART:20180227T200000Z
DTEND:20180227T233000Z
SUMMARY:OCoC: KiwiHost - Service Excellence - Part 2 of 2
GEO:-45.875242;170.50412
LOCATION:Otago Chamber of Commerce
END:VEVENT
END:VCALENDAR
