BEGIN:VCALENDAR
VERSION:2.0
PRODID:-//Squarespace Inc/Squarespace 6//v6//EN
BEGIN:VEVENT
UID:5a445c81e2c483652f1de5d6@squarespace.com
DTSTAMP:20180116T005430Z
DTSTART:20180312T200000Z
DTEND:20180312T233000Z
SUMMARY:OCOC: Not for Profit - Essentials for managing staff PART 2
GEO:-45.875242;170.50412
LOCATION:Otago Chamber of Commerce
END:VEVENT
END:VCALENDAR
