BEGIN:VCALENDAR
VERSION:2.0
PRODID:-//Squarespace Inc/Squarespace 6//v6//EN
BEGIN:VEVENT
UID:5a4488fd419202c4d355dc42@squarespace.com
DTSTAMP:20180301T000457Z
DTSTART:20180307T230000Z
DTEND:20180308T010000Z
SUMMARY:Tech Torque: Blockchain
GEO:-45.869534;170.524454
LOCATION:Forsyth Barr Stadium
END:VEVENT
END:VCALENDAR
