BEGIN:VCALENDAR
VERSION:2.0
PRODID:-//Squarespace Inc/Squarespace 6//v6//EN
BEGIN:VEVENT
UID:5acbf48a352f53a44f2a9b4d@squarespace.com
DTSTAMP:20180409T232312Z
DTSTART:20180411T053000Z
DTEND:20180411T073000Z
SUMMARY:Startup Weekend Pre-event
GEO:-45.866526;170.508363
LOCATION:Lonestar\, 484 George Street\, Dunedin\, OTA\, 9016\, New Zealand
END:VEVENT
END:VCALENDAR
