BEGIN:VCALENDAR
VERSION:2.0
PRODID:-//Squarespace Inc/Squarespace 6//v6//EN
BEGIN:VEVENT
UID:5ac6fa8e6d2a7394c94cda78@squarespace.com
DTSTAMP:20180409T232420Z
DTSTART:20180412T054500Z
DTEND:20180412T081500Z
SUMMARY:SEO vs CRO - The Real Secret to Getting Results from your Site
GEO:-45.879111;170.499622
LOCATION:Petridish\, 8 Stafford Street\, Dunedin\, OTA\, 9016\, New Zealand
END:VEVENT
END:VCALENDAR
