BEGIN:VCALENDAR
VERSION:2.0
PRODID:-//Squarespace Inc/Squarespace 6//v6//EN
BEGIN:VEVENT
UID:5a554bdf24a694a260a43900@squarespace.com
DTSTAMP:20180328T094124Z
DTSTART:20180412T060000Z
DTEND:20180412T090000Z
SUMMARY:Startup Dunedin presents CO.STARTERS
GEO:-45.879111;170.499622
LOCATION:Petridish\, 8 Stafford Street\, Dunedin\, OTA\, 9016\, New Zealand
END:VEVENT
END:VCALENDAR
