BEGIN:VCALENDAR
VERSION:2.0
PRODID:-//Squarespace Inc/Squarespace 6//v6//EN
BEGIN:VEVENT
UID:5acc353cf950b7425255a79e@squarespace.com
DTSTAMP:20180410T035654Z
DTSTART:20180426T051500Z
DTEND:20180426T061500Z
SUMMARY:Dunedin Business After 5: Seaview Cottage Construction
GEO:-45.879111;170.499622
LOCATION:Petridish\, 8 Stafford Street\, Dunedin\, OTA\, 9016\, New Zealand
END:VEVENT
END:VCALENDAR
