BEGIN:VCALENDAR
VERSION:2.0
PRODID:-//Squarespace Inc/Squarespace 6//v6//EN
BEGIN:VEVENT
UID:5ae2b36203ce64d62278f0e3@squarespace.com
DTSTAMP:20180427T052435Z
DTSTART:20180510T060000Z
DTEND:20180510T073000Z
SUMMARY:Petridish: Supercharge Your Sales
GEO:-45.879111;170.499622
LOCATION:Petridish\, 8 Stafford Street\, Dunedin\, OTA\, 9016\, New Zealand
END:VEVENT
END:VCALENDAR
