BEGIN:VCALENDAR
VERSION:2.0
PRODID:-//Squarespace Inc/Squarespace 6//v6//EN
BEGIN:VEVENT
UID:5ae27ed71ae6cf7022a0c053@squarespace.com
DTSTAMP:20180427T014400Z
DTSTART:20180524T210000Z
DTEND:20180525T040000Z
SUMMARY:LAUNCH by Hatch
END:VEVENT
END:VCALENDAR
