BEGIN:VCALENDAR
VERSION:2.0
PRODID:-//Squarespace Inc/Squarespace 6//v6//EN
BEGIN:VEVENT
UID:5ae2b10df950b7bc941541aa@squarespace.com
DTSTAMP:20180427T051809Z
DTSTART:20180531T050000Z
DTEND:20180531T080000Z
SUMMARY:Paradigm Shift
GEO:-45.868746;170.522309
LOCATION:Forsyth Barr Stadium\, 130 Anzac Avenue\, Dunedin\, OTA\, 9016\, N
 ew Zealand
END:VEVENT
END:VCALENDAR
