BEGIN:VCALENDAR
VERSION:2.0
PRODID:-//Squarespace Inc/Squarespace 6//v6//EN
BEGIN:VEVENT
UID:5b0cedbe758d461b371e17b2@squarespace.com
DTSTAMP:20180529T062202Z
DTSTART:20180614T000000Z
DTEND:20180614T020000Z
SUMMARY:Tech Torque: Artificial Intelligence
GEO:-45.869534;170.524454
LOCATION:Forsyth Barr Stadium
END:VEVENT
END:VCALENDAR
