BEGIN:VCALENDAR
VERSION:2.0
PRODID:-//Squarespace Inc/Squarespace 6//v6//EN
BEGIN:VEVENT
UID:5b308026758d46fa660f956c@squarespace.com
DTSTAMP:20180625T062328Z
DTSTART:20180626T070000Z
DTEND:20180626T090000Z
SUMMARY:The Vision Workshop: 3 Keys To Accelerating Your Results
GEO:-45.879111;170.499622
LOCATION:Petridish\, 8 Stafford Street\, Dunedin\, OTA\, 9016\, New Zealand
END:VEVENT
END:VCALENDAR
