BEGIN:VCALENDAR
VERSION:2.0
PRODID:-//Squarespace Inc/Squarespace 6//v6//EN
BEGIN:VEVENT
UID:5b308f3d2b6a28effe102dd1@squarespace.com
DTSTAMP:20180625T064644Z
DTSTART:20180711T053000Z
DTEND:20180711T070000Z
SUMMARY:Lead the Future - Dunedin - With Petridish & Crypto Launchpad
GEO:-45.879111;170.499622
LOCATION:Petridish\, 8 Stafford Street\, Dunedin\, OTA\, 9016\, New Zealand
END:VEVENT
END:VCALENDAR
