BEGIN:VCALENDAR
VERSION:2.0
PRODID:-//Squarespace Inc/Squarespace 6//v6//EN
BEGIN:VEVENT
UID:5b4d8068758d46a039e75557@squarespace.com
DTSTAMP:20180717T054430Z
DTSTART:20180717T210000Z
DTEND:20180718T000100Z
SUMMARY:Designing Solutions - Dunedin
END:VEVENT
END:VCALENDAR
