BEGIN:VCALENDAR
VERSION:2.0
PRODID:-//Squarespace Inc/Squarespace 6//v6//EN
BEGIN:VEVENT
UID:5b4452c78a922d33d9ff2c5b@squarespace.com
DTSTAMP:20180710T064442Z
DTSTART:20180726T030000Z
DTEND:20180726T043000Z
SUMMARY:OCoC: Skills Highway Forum
GEO:40.720756;-74.000761
LOCATION:Otago Chamber of Commerce
END:VEVENT
END:VCALENDAR
