BEGIN:VCALENDAR
VERSION:2.0
PRODID:-//Squarespace Inc/Squarespace 6//v6//EN
BEGIN:VEVENT
UID:5b5fa5802b6a28ea73bcf9ed@squarespace.com
DTSTAMP:20180731T000242Z
DTSTART:20180731T230000Z
DTEND:20180801T000000Z
SUMMARY:Innov8HQ: Resilience in Entrepreneurship - Live Q & A Sessions
GEO:-45.87953;170.503173
LOCATION:Innov8HQ\, 123 Vogel Street\, Dunedin\, OTA\, 9016\, New Zealand
END:VEVENT
END:VCALENDAR
