BEGIN:VCALENDAR
VERSION:2.0
PRODID:-//Squarespace Inc/Squarespace 6//v6//EN
BEGIN:VEVENT
UID:5b5fa2da6d2a73a28171a50b@squarespace.com
DTSTAMP:20180730T234649Z
DTSTART:20180815T010000Z
DTEND:20180815T030000Z
SUMMARY:PetriDen with Petridish
GEO:40.720756;-74.000761
LOCATION:Petridish\, 8 Stafford Street\, Dunedin\, OTA\, 9016\, New Zealand
END:VEVENT
END:VCALENDAR
