BEGIN:VCALENDAR
VERSION:2.0
PRODID:-//Squarespace Inc/Squarespace 6//v6//EN
BEGIN:VEVENT
UID:5b7215051ae6cf6f8d8d8eb5@squarespace.com
DTSTAMP:20180813T233722Z
DTSTART:20180815T190000Z
DTEND:20180815T200000Z
SUMMARY:Mosgiel Business Breakfast
GEO:-45.87486;170.348329
LOCATION:Aurora Cafe\, 123 Gordon Road\, Mosgiel\, New Zealand
END:VEVENT
END:VCALENDAR
