BEGIN:VCALENDAR
VERSION:2.0
PRODID:-//Squarespace Inc/Squarespace 6//v6//EN
BEGIN:VEVENT
UID:5b721ded4ae23702f3f6e84d@squarespace.com
DTSTAMP:20180814T002106Z
DTSTART:20180821T050000Z
DTEND:20180821T070000Z
SUMMARY:Young Enterprise Marketplace Evening
GEO:-45.875407;170.504202
LOCATION:Otago Chamber of Commerce
END:VEVENT
END:VCALENDAR
