BEGIN:VCALENDAR
VERSION:2.0
PRODID:-//Squarespace Inc/Squarespace 6//v6//EN
BEGIN:VEVENT
UID:5b5fa3ba6d2a73a28171cbc8@squarespace.com
DTSTAMP:20180730T235152Z
DTSTART:20180803T000000Z
DTEND:20180803T020000Z
SUMMARY:Petridish: Make More Sales With No Extra Work!
GEO:40.720756;-74.000761
LOCATION:Petridish\, 8 Stafford Street\, Dunedin\, OTA\, 9016\, New Zealand
END:VEVENT
END:VCALENDAR
